BEGIN:VCALENDAR
VERSION:2.0
PRODID:-//Cannabis Cup Winners - ECPv6.15.15//NONSGML v1.0//EN
CALSCALE:GREGORIAN
METHOD:PUBLISH
X-WR-CALNAME:Cannabis Cup Winners
X-ORIGINAL-URL:https://cannabiscupwinners.com
X-WR-CALDESC:Events for Cannabis Cup Winners
REFRESH-INTERVAL;VALUE=DURATION:PT1H
X-Robots-Tag:noindex
X-PUBLISHED-TTL:PT1H
BEGIN:VTIMEZONE
TZID:Europe/Amsterdam
BEGIN:DAYLIGHT
TZOFFSETFROM:+0100
TZOFFSETTO:+0200
TZNAME:CEST
DTSTART:20230326T010000
END:DAYLIGHT
BEGIN:STANDARD
TZOFFSETFROM:+0200
TZOFFSETTO:+0100
TZNAME:CET
DTSTART:20231029T010000
END:STANDARD
BEGIN:DAYLIGHT
TZOFFSETFROM:+0100
TZOFFSETTO:+0200
TZNAME:CEST
DTSTART:20240331T010000
END:DAYLIGHT
BEGIN:STANDARD
TZOFFSETFROM:+0200
TZOFFSETTO:+0100
TZNAME:CET
DTSTART:20241027T010000
END:STANDARD
BEGIN:DAYLIGHT
TZOFFSETFROM:+0100
TZOFFSETTO:+0200
TZNAME:CEST
DTSTART:20250330T010000
END:DAYLIGHT
BEGIN:STANDARD
TZOFFSETFROM:+0200
TZOFFSETTO:+0100
TZNAME:CET
DTSTART:20251026T010000
END:STANDARD
END:VTIMEZONE
BEGIN:VEVENT
DTSTART;TZID=Europe/Amsterdam:20240527T080000
DTEND;TZID=Europe/Amsterdam:20240529T170000
DTSTAMP:20260426T011801
CREATED:20240213T194223Z
LAST-MODIFIED:20240213T211044Z
UID:5764-1716796800-1717002000@cannabiscupwinners.com
SUMMARY:Grow Up Conference (Toronto)
DESCRIPTION:Grow Up Conference\, Expo and Awards is a Canadian-owned and operated leader in the cannabis industry\, dedicated to driving innovation and community since 2017. We connect attendees with growers\, brand owners\, and key decision-makers. Our event is built a strong community of learning and growth among cultivation and retail professionals. Offering targeted networking events creates meaningful engagement and lasting relationships.
URL:https://cannabiscupwinners.com/event/grow-up-conference-toronto/
LOCATION:Delta Hotel by Marriott Toronto Airport Conference Centre\, 655 Dixon Rd\, Toronto\, ON\, Canada
CATEGORIES:All Events,Conferences,Trade Shows & Events
ATTACH;FMTTYPE=image/png:https://cannabiscupwinners.com/wp-content/uploads/2024/02/growup-conference.png
END:VEVENT
END:VCALENDAR