BEGIN:VCALENDAR
VERSION:2.0
PRODID:-//Cannabis Cup Winners - ECPv6.15.15//NONSGML v1.0//EN
CALSCALE:GREGORIAN
METHOD:PUBLISH
X-WR-CALNAME:Cannabis Cup Winners
X-ORIGINAL-URL:https://cannabiscupwinners.com
X-WR-CALDESC:Events for Cannabis Cup Winners
REFRESH-INTERVAL;VALUE=DURATION:PT1H
X-Robots-Tag:noindex
X-PUBLISHED-TTL:PT1H
BEGIN:VTIMEZONE
TZID:Europe/Amsterdam
BEGIN:DAYLIGHT
TZOFFSETFROM:+0100
TZOFFSETTO:+0200
TZNAME:CEST
DTSTART:20230326T010000
END:DAYLIGHT
BEGIN:STANDARD
TZOFFSETFROM:+0200
TZOFFSETTO:+0100
TZNAME:CET
DTSTART:20231029T010000
END:STANDARD
BEGIN:DAYLIGHT
TZOFFSETFROM:+0100
TZOFFSETTO:+0200
TZNAME:CEST
DTSTART:20240331T010000
END:DAYLIGHT
BEGIN:STANDARD
TZOFFSETFROM:+0200
TZOFFSETTO:+0100
TZNAME:CET
DTSTART:20241027T010000
END:STANDARD
BEGIN:DAYLIGHT
TZOFFSETFROM:+0100
TZOFFSETTO:+0200
TZNAME:CEST
DTSTART:20250330T010000
END:DAYLIGHT
BEGIN:STANDARD
TZOFFSETFROM:+0200
TZOFFSETTO:+0100
TZNAME:CET
DTSTART:20251026T010000
END:STANDARD
END:VTIMEZONE
BEGIN:VEVENT
DTSTART;VALUE=DATE:20240420
DTEND;VALUE=DATE:20240421
DTSTAMP:20260420T070536
CREATED:20240321T203937Z
LAST-MODIFIED:20240329T113214Z
UID:9730-1713571200-1713657599@cannabiscupwinners.com
SUMMARY:420 Homegrown Cannabis Cup
DESCRIPTION:420 Homegrown Cannabis Cup (Hosted by CBD of FM) \nApril 20th 2024 – Festivities Starting at 2:30pm after Cannabis and Coffee \nJudging will be based on 4 categories. Bring a munchie to pass! This will be an all day party celebrating the holidaze! \nAt Roots Hydroponics\, 423 Main Ave\, Moorhead\, MN 56560-2657\, Moorhead\, Minnesota\, United States
URL:https://cannabiscupwinners.com/event/420-homegrown-cannabis-cups-hosted-by-cbd-of-fm/
LOCATION:Roots Hydroponics\, 423 Main Ave\,\, Moorhead\, MN\, 56560-2657\,\, United States
CATEGORIES:All Events,Cups & Award Shows
ATTACH;FMTTYPE=image/png:https://cannabiscupwinners.com/wp-content/uploads/2024/03/Roots-Hydroponics-Homegrown-Cannabis-Cups-Hosted-by-CBD-of-FM.png
END:VEVENT
BEGIN:VEVENT
DTSTART;VALUE=DATE:20240420
DTEND;VALUE=DATE:20240421
DTSTAMP:20260420T070536
CREATED:20240313T150958Z
LAST-MODIFIED:20240323T181203Z
UID:8730-1713571200-1713657599@cannabiscupwinners.com
SUMMARY:Jade Cup
DESCRIPTION:Jade Cup is Coming to Oklahoma City April 2024\nOklahoma’s Premier Cannabis and Music Festival\, coming to Oklahoma City on 420!
URL:https://cannabiscupwinners.com/event/8730/
CATEGORIES:All Events,Cups & Award Shows
ATTACH;FMTTYPE=image/png:https://cannabiscupwinners.com/wp-content/uploads/2024/03/Jade_Cup_Dog.png
END:VEVENT
BEGIN:VEVENT
DTSTART;VALUE=DATE:20240420
DTEND;VALUE=DATE:20240421
DTSTAMP:20260420T070536
CREATED:20240312T113845Z
LAST-MODIFIED:20240417T135231Z
UID:8626-1713571200-1713657599@cannabiscupwinners.com
SUMMARY:(Four Twenty) 4/20
DESCRIPTION:April 20th: 420! \nAccording to the legend.. Once upon a time\, in the early 1970s\, in San Rafael\, California\, a group of high school friends known as the “Waldos” set out on an adventure that would eventually give birth to a worldwide celebration known as 4/20. \nIt all began when the Waldos heard a rumor about an abandoned cannabis crop near Point Reyes Peninsula Coast Guard station. Determined to find this mythical stash\, they agreed to meet at the Louis Pasteur statue outside their school at 4:20 p.m. Armed with a treasure map drawn by one of the friends\, they embarked on their quest after school\, marking the beginning of an enduring tradition. \nAlthough they never found the hidden treasure\, the ritual of meeting at 4:20 p.m. stuck with the Waldos. As they continued to gather at the designated time\, “420” became their code word for smoking cannabis. Soon\, it became a part of their everyday language\, used discreetly to discuss their plans without alerting authority figures. \nThe term spread beyond the confines of their high school\, gaining popularity among cannabis enthusiasts in the surrounding area. Eventually\, it made its way into broader counterculture circles and became synonymous with the act of smoking cannabis. \nAs the years passed\, the legend of 4/20 continued to grow. It evolved from a simple code between friends to an international day of celebration for cannabis enthusiasts around the world. On April 20th each year\, people gather to honor the plant\, advocate for its legalization\, and enjoy its myriad benefits. \nAnd so\, the origins of 4/20 are rooted in the camaraderie and adventurous spirit of a group of high school friends who set out on a quest for hidden treasure and inadvertently sparked a global movement of cannabis culture and advocacy.
URL:https://cannabiscupwinners.com/event/four-twenty-420/
LOCATION:Global
CATEGORIES:All Events,Celebrations
ATTACH;FMTTYPE=image/png:https://cannabiscupwinners.com/wp-content/uploads/2024/03/420.png
END:VEVENT
BEGIN:VEVENT
DTSTART;VALUE=DATE:20240420
DTEND;VALUE=DATE:20240421
DTSTAMP:20260420T070536
CREATED:20240402T142019Z
LAST-MODIFIED:20240409T085222Z
UID:10588-1713571200-1713657599@cannabiscupwinners.com
SUMMARY:High THC Cup v2 2024 Cannapedia Growers Cup
DESCRIPTION:High THC Cup 2024  \nPresented by Cannapedia Growers Cup – კანაპედია მებაღეთა თასი \nMay 20th 2024\, Tbilisi Georgia \nMTBA
URL:https://cannabiscupwinners.com/event/high-thc-cup-v2-2024-cannapedia/
LOCATION:Tbilisi\, Tbilisi City\, 0103\, Georgia
CATEGORIES:All Events,Cups & Award Shows
ATTACH;FMTTYPE=image/png:https://cannabiscupwinners.com/wp-content/uploads/2022/01/Cannapedia-Growers-Cup.png
END:VEVENT
BEGIN:VEVENT
DTSTART;VALUE=DATE:20240419
DTEND;VALUE=DATE:20240421
DTSTAMP:20260420T070536
CREATED:20240316T185850Z
LAST-MODIFIED:20240316T190634Z
UID:9106-1713484800-1713657599@cannabiscupwinners.com
SUMMARY:National Cannabis Championship
DESCRIPTION:National Cannabis Championship 2024 \nOn April 20th\, the National Cannabis Championship judges at the 3rd Annual NCC Award Show recognized and rewarded the best homegrown THC flower from Washington\, D.C.\, Virginia\, and Maryland. NCC takes place during the National Cannabis Festival (NCF) in Washington and features live performances by Wu-Tang Clan\, Redman and Thundercat.
URL:https://cannabiscupwinners.com/event/national-cannabis-championship/
LOCATION:RFK Campus\, 401 Oklahoma Ave\, Washington\, DC\, 20002\, United States
CATEGORIES:All Events,Cups & Award Shows
ATTACH;FMTTYPE=image/png:https://cannabiscupwinners.com/wp-content/uploads/2024/03/NCC-National-Cannabis-Championship.png
END:VEVENT
BEGIN:VEVENT
DTSTART;VALUE=DATE:20240416
DTEND;VALUE=DATE:20240418
DTSTAMP:20260420T070536
CREATED:20240316T175020Z
LAST-MODIFIED:20240316T181315Z
UID:9094-1713225600-1713398399@cannabiscupwinners.com
SUMMARY:Benzinga Cannabis Awards 2024
DESCRIPTION:Benzinga Cannabis Capital Conference The Leading Cannabis Investment & Branding Conference in North America April 16-17th\, 2024. The Diplomat Beach Resort\, Hollywood\, Florida.
URL:https://cannabiscupwinners.com/event/benzinga-cannabis-awards-2024/
LOCATION:The Diplomat Beach Resort\, 3555 S Ocean Dr\, Hollywood\, FL\, 33019\, United States
CATEGORIES:All Events,Cups & Award Shows
ATTACH;FMTTYPE=image/png:https://cannabiscupwinners.com/wp-content/uploads/2022/10/benzinga-cannabis-awards.png
END:VEVENT
BEGIN:VEVENT
DTSTART;VALUE=DATE:20240411
DTEND;VALUE=DATE:20240414
DTSTAMP:20260420T070536
CREATED:20240329T212105Z
LAST-MODIFIED:20240330T094154Z
UID:10407-1712793600-1713052799@cannabiscupwinners.com
SUMMARY:Copa Cannábica Alebrije 2024
DESCRIPTION:Copa Cannábica Alebrije 2024 \ndel 11 al 13 de abril en Oaxaca\, Mexico. \nYou are invited to participate this April 11\, 12 and 13 in the first cannabis cup held in the state of Oaxaca!
URL:https://cannabiscupwinners.com/event/copa-cannabica-alebrije-2024/
LOCATION:Rayón 212\, Oaxaca de Juárez\, Oaxaca\, 68000\, Mexico
CATEGORIES:All Events,Cups & Award Shows
ATTACH;FMTTYPE=image/png:https://cannabiscupwinners.com/wp-content/uploads/2024/03/Copa-Cannabica-Alebrije-logo.png
END:VEVENT
BEGIN:VEVENT
DTSTART;VALUE=DATE:20240408
DTEND;VALUE=DATE:20240409
DTSTAMP:20260420T070536
CREATED:20240312T115643Z
LAST-MODIFIED:20240312T115814Z
UID:8636-1712534400-1712620799@cannabiscupwinners.com
SUMMARY:Happy Birthday Dennis Peron
DESCRIPTION:Happy Birthday to Dennis Peron\, a true pioneer and tireless advocate for cannabis rights in California! Your dedication and vision have paved the way for progress and acceptance in the cannabis community. Cheers to you\, Dennis\, and your invaluable contributions to the movement! \nimo Dennis Peron (08-04-1945 – 27-01-2018)
URL:https://cannabiscupwinners.com/event/happy-birthday-dennis-peron/
LOCATION:Global
CATEGORIES:All Events,Celebrations
END:VEVENT
BEGIN:VEVENT
DTSTART;TZID=Europe/Amsterdam:20240405T000000
DTEND;TZID=Europe/Amsterdam:20240407T220000
DTSTAMP:20260420T070536
CREATED:20240221T162331Z
LAST-MODIFIED:20240407T084823Z
UID:6499-1712275200-1712527200@cannabiscupwinners.com
SUMMARY:Hash Bash Cup 2024
DESCRIPTION:Hash Bash Cup 2024 \nIf you heard any rumors about this event\, and thought you were being lied to..\nYou weren’t! It’s All True!
URL:https://cannabiscupwinners.com/event/hash-bash-cup/
LOCATION:Wyndham Garden Detroit\, 9191 Wickham Rd\, Romulus\, Detroit\, MI\, 48174\, United States
CATEGORIES:All Events,Cups & Award Shows
ATTACH;FMTTYPE=image/png:https://cannabiscupwinners.com/wp-content/uploads/2024/02/hash-bash-cup.png
END:VEVENT
BEGIN:VEVENT
DTSTART;TZID=Europe/Amsterdam:20240330T160000
DTEND;TZID=Europe/Amsterdam:20240330T230000
DTSTAMP:20260420T070536
CREATED:20240223T000535Z
LAST-MODIFIED:20240302T162755Z
UID:6772-1711814400-1711839600@cannabiscupwinners.com
SUMMARY:Women's Canna Awards 2024
DESCRIPTION:The Award show dedicated to women in cannabis\nBringing Together Women from Across the Cannabis Industry. Creating space where women-owned and run businesses are able to shine. From entrepreneurs and researchers to activists and regulators. Shaping the future of cannabis.
URL:https://cannabiscupwinners.com/event/womens-canna-awards-2024/
LOCATION:E.K. ART GALLERY\, 1125 Crenshaw Blvd\, Los Angeles\, CA\, 90019\, United States
CATEGORIES:All Events,Cups & Award Shows
ATTACH;FMTTYPE=image/png:https://cannabiscupwinners.com/wp-content/uploads/2024/02/womens-canna-awards.png
END:VEVENT
BEGIN:VEVENT
DTSTART;TZID=Europe/Amsterdam:20240330T120000
DTEND;TZID=Europe/Amsterdam:20240330T190000
DTSTAMP:20260420T070536
CREATED:20240315T140054Z
LAST-MODIFIED:20240315T195219Z
UID:8957-1711800000-1711825200@cannabiscupwinners.com
SUMMARY:Arizona Growers Cup 2024
DESCRIPTION:Arizona Growers Cup \nIrie Rockerz Annual Cannabis C \n12pm-7pm – March 30th\, 2024 \nLUX Event Center 3910 S. Rural Rd Tempe\, Arizona \nWith Musical Act
URL:https://cannabiscupwinners.com/event/8957/
LOCATION:LUX Event Center\, 3910 S. Rural Rd\, Tempe\, 85282\, United States
CATEGORIES:All Events,Cups & Award Shows
ATTACH;FMTTYPE=image/png:https://cannabiscupwinners.com/wp-content/uploads/2024/03/Arizona-Growers-Cup.png
END:VEVENT
BEGIN:VEVENT
DTSTART;VALUE=DATE:20240330
DTEND;VALUE=DATE:20240331
DTSTAMP:20260420T070536
CREATED:20241116T153420Z
LAST-MODIFIED:20241117T183618Z
UID:11768-1711756800-1711843199@cannabiscupwinners.com
SUMMARY:High Times Cannabis Cup Massachusetts 2024
DESCRIPTION:The High Times Cannabis Cup: Massachusetts 2024\, will be the third-ever competition that is open to the Massachusetts public\, aimed to identify and award the best cannabis products in all of Massachusetts\, all across a wide range of different categories\, all to be judged by the great people of The Bay State. \nSunday March 30th 2024
URL:https://cannabiscupwinners.com/event/2024-high-times-cannabis-cup-massachusetts/
CATEGORIES:All Events,Cups & Award Shows
ATTACH;FMTTYPE=image/png:https://cannabiscupwinners.com/wp-content/uploads/2020/01/High-Times-Cannabis-Cup-est-1988.png
END:VEVENT
BEGIN:VEVENT
DTSTART;TZID=Europe/Amsterdam:20240327T080000
DTEND;TZID=Europe/Amsterdam:20240327T170000
DTSTAMP:20260420T070536
CREATED:20240327T164322Z
LAST-MODIFIED:20240327T170506Z
UID:10231-1711526400-1711558800@cannabiscupwinners.com
SUMMARY:Errl Cup 2024 - Fall
DESCRIPTION:The Annual Errl Cup stands as Arizona’s leading Cannabis Awards and festival gathering. With a unique focus on Patient Appreciation\, the Errl Cup prioritizes authenticity. Winners aren’t determined by monetary means; rather\, they must cultivate superior medicine\, earning approval from their genuine patient judges. \nSat\, Oct 5\, 2024 9:00 a.m. – Sun\, Oct 6\, 2024 4:00 p.m.\nScarizona Fairgrounds\, Mesa\, AZ \nRegister for Free Admission to event. \nYou must have a valid MMJ Card for early Medical entry\, and a valid State ID w/ age of 21+ to access Recreational.
URL:https://cannabiscupwinners.com/event/errl-cup-2024-fall/
LOCATION:Scarizona Fairgrounds\, 1901 N Alma School Rd\, Meza\, AZ\, 85201\, United States
CATEGORIES:All Events,Conferences,Cups & Award Shows
ATTACH;FMTTYPE=image/png:https://cannabiscupwinners.com/wp-content/uploads/2023/03/Errl-Cup.png
END:VEVENT
BEGIN:VEVENT
DTSTART;VALUE=DATE:20240323
DTEND;VALUE=DATE:20240324
DTSTAMP:20260420T070536
CREATED:20240314T095235Z
LAST-MODIFIED:20240315T200620Z
UID:8789-1711152000-1711238399@cannabiscupwinners.com
SUMMARY:Necann Cup Awards 2024
DESCRIPTION:Necann Cup Awards 2024 \nNECANN Cup a New England\, multi-state Cannabis Competition. Winners will be announced onstage in the upstairs hall on Saturday\, March 23rd at the New England Cannabis Convention. \n2024 Boston NECANN CUP Awards \nMarch 23rd\, 2024\, Hynes Convention Center – Hall D (Upstairs) in Boston MA.
URL:https://cannabiscupwinners.com/event/necann-cup-awards-boston-2024/
LOCATION:Hynes Convention Center\, 900 Boylston St\,\, Boston\, MA\, 02115\,\, United States
CATEGORIES:All Events,Cups & Award Shows
ATTACH;FMTTYPE=image/webp:https://cannabiscupwinners.com/wp-content/uploads/2024/03/NECANN-CUP-LOGO.webp
END:VEVENT
BEGIN:VEVENT
DTSTART;VALUE=DATE:20240322
DTEND;VALUE=DATE:20240325
DTSTAMP:20260420T070536
CREATED:20240315T135555Z
LAST-MODIFIED:20240315T195207Z
UID:8954-1711065600-1711324799@cannabiscupwinners.com
SUMMARY:Top Bud Awards 2024
DESCRIPTION:Top Bud Awards 2024 \nMarch 22nd to 24th\, 2024 at Enercare Centre\, Toronto\, Canada.
URL:https://cannabiscupwinners.com/event/top-bud-awards-2024/
LOCATION:Enercare Centre\, 100 Princes' Blvd 1\, Toronto\, Ontario\, M6K 3C3\, Canada
CATEGORIES:All Events,Cups & Award Shows
ATTACH;FMTTYPE=image/png:https://cannabiscupwinners.com/wp-content/uploads/2024/03/Top-Bud-Awards.png
END:VEVENT
BEGIN:VEVENT
DTSTART;TZID=Europe/Amsterdam:20240315T110000
DTEND;TZID=Europe/Amsterdam:20240317T203000
DTSTAMP:20260420T070536
CREATED:20240229T230436Z
LAST-MODIFIED:20240315T201004Z
UID:7123-1710500400-1710707400@cannabiscupwinners.com
SUMMARY:Spannabis Champions Cup 2024
DESCRIPTION:Spannabis Champions Cup 2024 \nSpannabis Barcelona is one of the biggest and more important fairs in Europe. This three day fair where exhibitors\, professionals and visitors from all over the world meet and exchange opinions\, products and ideas in the world of Cannabis. Spannabis fair and Champions Cup is considered the ‘kick-off’ for Cannabis businesses season.
URL:https://cannabiscupwinners.com/event/spannabis-2024/
LOCATION:Fira Cornellà\, Carrer Albert Einstein\, 60\, Barcelona\, Catalunya\, 08940\, Spain
CATEGORIES:All Events,Cups & Award Shows,Trade Shows & Events
ATTACH;FMTTYPE=image/png:https://cannabiscupwinners.com/wp-content/uploads/2024/03/spannabis-championscup.png
END:VEVENT
BEGIN:VEVENT
DTSTART;TZID=Europe/Amsterdam:20240314T160000
DTEND;TZID=Europe/Amsterdam:20240314T200000
DTSTAMP:20260420T070536
CREATED:20240221T193204Z
LAST-MODIFIED:20240309T123109Z
UID:6540-1710432000-1710446400@cannabiscupwinners.com
SUMMARY:Squash Off Barcelona
DESCRIPTION:Uncle Stoner’s international competition travels around the world. Uniting growers\, Coffeeshops and experts in the industry to test their best grown buds. By pressing them into the fines Rosin extracts.
URL:https://cannabiscupwinners.com/event/squash-off-barcelona/
LOCATION:Sensi Social Club\, Barcelona\, Catalunya\, Spain
CATEGORIES:All Events,Cups & Award Shows
ATTACH;FMTTYPE=image/png:https://cannabiscupwinners.com/wp-content/uploads/2024/02/UncleStoner-SquashOff.png
END:VEVENT
BEGIN:VEVENT
DTSTART;VALUE=DATE:20240314
DTEND;VALUE=DATE:20240315
DTSTAMP:20260420T070536
CREATED:20240314T101151Z
LAST-MODIFIED:20240314T104316Z
UID:8792-1710374400-1710460799@cannabiscupwinners.com
SUMMARY:Autoflower World Cup 2024
DESCRIPTION:Autoflower World Cup 2024 \nThe 4th Annual Autoflower World Cup\, 15-16 March 2024 at OG Club\, Barcelona\, Spain
URL:https://cannabiscupwinners.com/event/autoflower-world-cup-2024/
CATEGORIES:All Events,Cups & Award Shows
END:VEVENT
BEGIN:VEVENT
DTSTART;TZID=Europe/Amsterdam:20240313T180000
DTEND;TZID=Europe/Amsterdam:20240314T000000
DTSTAMP:20260420T070536
CREATED:20240221T192548Z
LAST-MODIFIED:20240309T163657Z
UID:6534-1710352800-1710374400@cannabiscupwinners.com
SUMMARY:(ICA) International Cannabis Awards
DESCRIPTION:ICA is born from the heart of the California cannabis community in Northern California. Dani Walton is a highly accomplished cannabis expert and entrepreneur hailing from the Bay Area. With an impressive track record spanning over 20 years\, Dani has amassed a wealth of experience in the cannabis industry and has leveraged her experience and network to create an event that you won’t want to miss!
URL:https://cannabiscupwinners.com/event/ica-international-cannabis-awards/
LOCATION:La Llotja\, Passeig d'Isabel II\, 1\, Barcelona\, Catalunya\, 08003\, Spain
CATEGORIES:All Events,Cups & Award Shows
ATTACH;FMTTYPE=image/png:https://cannabiscupwinners.com/wp-content/uploads/2024/02/ICA-Barcelona.png
END:VEVENT
BEGIN:VEVENT
DTSTART;VALUE=DATE:20240209
DTEND;VALUE=DATE:20240210
DTSTAMP:20260420T070536
CREATED:20241116T133807Z
LAST-MODIFIED:20241117T183715Z
UID:11753-1707436800-1707523199@cannabiscupwinners.com
SUMMARY:High Times Cannabis Cup Missouri 2024
DESCRIPTION:The High Times Cannabis Cup is coming to Missouri for the first time ever! The competition is aimed to identify and award the best cannabis products in Missouri\, across a wide range of different categories\, all to be judged by the great people of the Show-Me State.
URL:https://cannabiscupwinners.com/event/2024-high-times-cannabis-cup-missouri/
CATEGORIES:All Events,Cups & Award Shows
ATTACH;FMTTYPE=image/png:https://cannabiscupwinners.com/wp-content/uploads/2020/01/High-Times-Cannabis-Cup-est-1988.png
END:VEVENT
BEGIN:VEVENT
DTSTART;VALUE=DATE:20240206
DTEND;VALUE=DATE:20240207
DTSTAMP:20260420T070536
CREATED:20240309T161450Z
LAST-MODIFIED:20240312T114353Z
UID:8285-1707177600-1707263999@cannabiscupwinners.com
SUMMARY:Happy Birthday Bob Marley
DESCRIPTION:Happy Birthday\, Bob Marley! Your music continues to resonate deeply with people across generations and cultures\, spreading messages of love\, unity\, and social justice. Thank you for your profound lyrics\, infectious melodies\, and unwavering commitment to spreading positivity through music. Your legacy lives on\, inspiring millions to strive for a better world. Today\, we celebrate you and the timeless impact of your incredible talent. Jah bless! \nimo Bob Marley (06-02-1945 – 11-05-1981)
URL:https://cannabiscupwinners.com/event/happy-birthday-bob-marley/
LOCATION:Global
CATEGORIES:All Events,Celebrations
END:VEVENT
BEGIN:VEVENT
DTSTART;VALUE=DATE:20240111
DTEND;VALUE=DATE:20240112
DTSTAMP:20260420T070536
CREATED:20240309T161027Z
LAST-MODIFIED:20240312T114315Z
UID:8282-1704931200-1705017599@cannabiscupwinners.com
SUMMARY:Happy Birthday Albert Hofmann
DESCRIPTION:Happy Birthday\, Albert Hofmann! Your pioneering work on LSD has opened new doors of understanding and exploration for countless individuals around the world. Your contribution to science and consciousness expansion is truly remarkable. Thank you for your curiosity\, courage\, and dedication to pushing the boundaries of human knowledge. Wishing you a day filled with joy\, reflection\, and celebration of your extraordinary legacy. \nimo Albert Hofmann (11-01-1906 – 29-04-2008)
URL:https://cannabiscupwinners.com/event/happy-birthday-albert-hofmann/
LOCATION:Global
CATEGORIES:All Events,Celebrations
END:VEVENT
END:VCALENDAR