BEGIN:VCALENDAR
VERSION:2.0
PRODID:-//Cannabis Cup Winners - ECPv6.15.15//NONSGML v1.0//EN
CALSCALE:GREGORIAN
METHOD:PUBLISH
X-ORIGINAL-URL:https://cannabiscupwinners.com
X-WR-CALDESC:Events for Cannabis Cup Winners
REFRESH-INTERVAL;VALUE=DURATION:PT1H
X-Robots-Tag:noindex
X-PUBLISHED-TTL:PT1H
BEGIN:VTIMEZONE
TZID:Europe/Amsterdam
BEGIN:DAYLIGHT
TZOFFSETFROM:+0100
TZOFFSETTO:+0200
TZNAME:CEST
DTSTART:20240331T010000
END:DAYLIGHT
BEGIN:STANDARD
TZOFFSETFROM:+0200
TZOFFSETTO:+0100
TZNAME:CET
DTSTART:20241027T010000
END:STANDARD
BEGIN:DAYLIGHT
TZOFFSETFROM:+0100
TZOFFSETTO:+0200
TZNAME:CEST
DTSTART:20250330T010000
END:DAYLIGHT
BEGIN:STANDARD
TZOFFSETFROM:+0200
TZOFFSETTO:+0100
TZNAME:CET
DTSTART:20251026T010000
END:STANDARD
BEGIN:DAYLIGHT
TZOFFSETFROM:+0100
TZOFFSETTO:+0200
TZNAME:CEST
DTSTART:20260329T010000
END:DAYLIGHT
BEGIN:STANDARD
TZOFFSETFROM:+0200
TZOFFSETTO:+0100
TZNAME:CET
DTSTART:20261025T010000
END:STANDARD
END:VTIMEZONE
BEGIN:VEVENT
DTSTART;VALUE=DATE:20250314
DTEND;VALUE=DATE:20250316
DTSTAMP:20260419T213053
CREATED:20250227T170542Z
LAST-MODIFIED:20250309T184406Z
UID:12228-1741910400-1742083199@cannabiscupwinners.com
SUMMARY:Autoflower World Cup 2025
DESCRIPTION:Autoflower World Cup 2025 \n\n\n14-15 March 2025\n\nOG Club – Barcelona\, Spain\n\n\n08021\, Passatge de Marimon\, 9
URL:https://cannabiscupwinners.com/event/autoflower-world-cup-2025/
LOCATION:OG Club\, Passatge de Marimon\, 9\, Barcelona\, 08021\, Spain
CATEGORIES:All Events,Cups & Award Shows
ATTACH;FMTTYPE=image/png:https://cannabiscupwinners.com/wp-content/uploads/2025/02/AWC-Autoflowering-Cup.png
END:VEVENT
END:VCALENDAR