BEGIN:VCALENDAR
VERSION:2.0
PRODID:-//Cannabis Cup Winners - ECPv6.15.15//NONSGML v1.0//EN
CALSCALE:GREGORIAN
METHOD:PUBLISH
X-WR-CALNAME:Cannabis Cup Winners
X-ORIGINAL-URL:https://cannabiscupwinners.com
X-WR-CALDESC:Events for Cannabis Cup Winners
REFRESH-INTERVAL;VALUE=DURATION:PT1H
X-Robots-Tag:noindex
X-PUBLISHED-TTL:PT1H
BEGIN:VTIMEZONE
TZID:Europe/Amsterdam
BEGIN:DAYLIGHT
TZOFFSETFROM:+0100
TZOFFSETTO:+0200
TZNAME:CEST
DTSTART:20230326T010000
END:DAYLIGHT
BEGIN:STANDARD
TZOFFSETFROM:+0200
TZOFFSETTO:+0100
TZNAME:CET
DTSTART:20231029T010000
END:STANDARD
BEGIN:DAYLIGHT
TZOFFSETFROM:+0100
TZOFFSETTO:+0200
TZNAME:CEST
DTSTART:20240331T010000
END:DAYLIGHT
BEGIN:STANDARD
TZOFFSETFROM:+0200
TZOFFSETTO:+0100
TZNAME:CET
DTSTART:20241027T010000
END:STANDARD
BEGIN:DAYLIGHT
TZOFFSETFROM:+0100
TZOFFSETTO:+0200
TZNAME:CEST
DTSTART:20250330T010000
END:DAYLIGHT
BEGIN:STANDARD
TZOFFSETFROM:+0200
TZOFFSETTO:+0100
TZNAME:CET
DTSTART:20251026T010000
END:STANDARD
END:VTIMEZONE
BEGIN:VEVENT
DTSTART;VALUE=DATE:20240524
DTEND;VALUE=DATE:20240527
DTSTAMP:20260425T043330
CREATED:20240323T203508Z
LAST-MODIFIED:20240323T203508Z
UID:9864-1716508800-1716767999@cannabiscupwinners.com
SUMMARY:Canna Swiss Cup 2024
DESCRIPTION:Canna Swiss Cup 2024 \nFrom May 24-26\, the next CannaTrade will take place in Hall 622. Back in Zurich\, with a spacious (and covered) outdoor zone\, the Hemp Food Festival\, the Joint Roll Contest Swiss Championship\, the Canna Swiss Cup and everything around CBD\, cultivation\, smoking accessories\, nutrition\, medicine and everything the cannabis plant has to offer. \nVisitors can enjoy the following highlights and side events in addition to over 150 trade fair stands. \nCannAward 2024\nThe CannAward 2024 will take place in a reduced form: The most beautiful stand will be awarded (all exhibitors automatically participate) and a Lifetime Achievement Award will be presented. \nCannaSwissCup – Switzerland’s Cannabis Cup since 1998 \nEstablished in 1998\, put on ice in 2006 and revived in 2017:\nThe CannaSwissCup – Selection of the best Swiss Cannabis sorts \nCannaSwissCup – Course of Action \nFrom January till March\, the different sorts will be forwarded for analyses on the content of THC\, CBD\, CBG\, Nicotine\, Pesticide and Mycotoxine as well as for the Terpen-Analysis. Subsequently the VIP-Jury will select the best sorts – worthy to be included in the Jury-Card. The Cards can be bought exclusively at the CannaTrade 2024. \nThe Jury-Members get time to test the sorts out of the various categories (Indoor\, Outdoor and Hash) until 23 May 2024 and finally to vote for their preferences. \nAll data on the sorts involved will be made anonymous during the entire process. The results of the analyses\, the naming of the varieties and their producers will be made public after the Award Show. \nBecome a Jury Member\nStand 110 \nHalle 622\, Therese-Giehse-Strasse 10\, 8050 Zürich\, Switzerland
URL:https://cannabiscupwinners.com/event/canna-swiss-cup-2024/
LOCATION:Halle 622\, Therese-Giehse-Strasse 10\, Zürich\, 8050\, Switzerland
CATEGORIES:All Events,Cups & Award Shows
ATTACH;FMTTYPE=image/png:https://cannabiscupwinners.com/wp-content/uploads/2023/05/Canna-Swiss-Cup.png
END:VEVENT
END:VCALENDAR