BEGIN:VCALENDAR
VERSION:2.0
PRODID:-//Cannabis Cup Winners - ECPv6.15.15//NONSGML v1.0//EN
CALSCALE:GREGORIAN
METHOD:PUBLISH
X-ORIGINAL-URL:https://cannabiscupwinners.com
X-WR-CALDESC:Events for Cannabis Cup Winners
REFRESH-INTERVAL;VALUE=DURATION:PT1H
X-Robots-Tag:noindex
X-PUBLISHED-TTL:PT1H
BEGIN:VTIMEZONE
TZID:Europe/Amsterdam
BEGIN:DAYLIGHT
TZOFFSETFROM:+0100
TZOFFSETTO:+0200
TZNAME:CEST
DTSTART:20240331T010000
END:DAYLIGHT
BEGIN:STANDARD
TZOFFSETFROM:+0200
TZOFFSETTO:+0100
TZNAME:CET
DTSTART:20241027T010000
END:STANDARD
BEGIN:DAYLIGHT
TZOFFSETFROM:+0100
TZOFFSETTO:+0200
TZNAME:CEST
DTSTART:20250330T010000
END:DAYLIGHT
BEGIN:STANDARD
TZOFFSETFROM:+0200
TZOFFSETTO:+0100
TZNAME:CET
DTSTART:20251026T010000
END:STANDARD
BEGIN:DAYLIGHT
TZOFFSETFROM:+0100
TZOFFSETTO:+0200
TZNAME:CEST
DTSTART:20260329T010000
END:DAYLIGHT
BEGIN:STANDARD
TZOFFSETFROM:+0200
TZOFFSETTO:+0100
TZNAME:CET
DTSTART:20261025T010000
END:STANDARD
END:VTIMEZONE
BEGIN:VEVENT
DTSTART;VALUE=DATE:20250308
DTEND;VALUE=DATE:20250309
DTSTAMP:20260421T121812
CREATED:20250307T150722Z
LAST-MODIFIED:20250317T104221Z
UID:12839-1741392000-1741478399@cannabiscupwinners.com
SUMMARY:Breeder Cannabis Cup 2025
DESCRIPTION:The Breeder Cannabis Cup 2025 \nA new edition of Thailand’s premier cannabis breeders competition: the Breeder Cup\, hosted by the producers of the Made in Thailand Cannabis Cup! \n8 March 2025 @ Saint Herb Hemp \nAddress: St. Herb Hemp – Bueng Kham Phroi\, Lam Luk Ka District\, Pathum Thani 12150\, Thailand
URL:https://cannabiscupwinners.com/event/breeders-cup-2025/
LOCATION:Saint Herb Hemp\, Bueng Kham Phroi\, Lam Luk Ka\, Pathum Thani\, 12150\, Thailand
CATEGORIES:All Events
ATTACH;FMTTYPE=image/png:https://cannabiscupwinners.com/wp-content/uploads/2025/03/Breeder-Cannabis-Cup-Thailand.png
END:VEVENT
END:VCALENDAR