BEGIN:VCALENDAR
VERSION:2.0
PRODID:-//Cannabis Cup Winners - ECPv6.15.15//NONSGML v1.0//EN
CALSCALE:GREGORIAN
METHOD:PUBLISH
X-ORIGINAL-URL:https://cannabiscupwinners.com
X-WR-CALDESC:Events for Cannabis Cup Winners
REFRESH-INTERVAL;VALUE=DURATION:PT1H
X-Robots-Tag:noindex
X-PUBLISHED-TTL:PT1H
BEGIN:VTIMEZONE
TZID:Europe/Amsterdam
BEGIN:DAYLIGHT
TZOFFSETFROM:+0100
TZOFFSETTO:+0200
TZNAME:CEST
DTSTART:20230326T010000
END:DAYLIGHT
BEGIN:STANDARD
TZOFFSETFROM:+0200
TZOFFSETTO:+0100
TZNAME:CET
DTSTART:20231029T010000
END:STANDARD
BEGIN:DAYLIGHT
TZOFFSETFROM:+0100
TZOFFSETTO:+0200
TZNAME:CEST
DTSTART:20240331T010000
END:DAYLIGHT
BEGIN:STANDARD
TZOFFSETFROM:+0200
TZOFFSETTO:+0100
TZNAME:CET
DTSTART:20241027T010000
END:STANDARD
BEGIN:DAYLIGHT
TZOFFSETFROM:+0100
TZOFFSETTO:+0200
TZNAME:CEST
DTSTART:20250330T010000
END:DAYLIGHT
BEGIN:STANDARD
TZOFFSETFROM:+0200
TZOFFSETTO:+0100
TZNAME:CET
DTSTART:20251026T010000
END:STANDARD
END:VTIMEZONE
BEGIN:VEVENT
DTSTART;VALUE=DATE:20240511
DTEND;VALUE=DATE:20240512
DTSTAMP:20260420T041139
CREATED:20240322T115020Z
LAST-MODIFIED:20240322T153502Z
UID:9750-1715385600-1715471999@cannabiscupwinners.com
SUMMARY:New Mexico Growers Cup 2024
DESCRIPTION:New Mexico Growers Cup 2024 \nSaturday\, May 11th\, Tularosa NM
URL:https://cannabiscupwinners.com/event/new-mexico-growers-cup-2024/
LOCATION:The Horror Hall\, 7710 - A hwy 54 -70\, Tularosa\, NM\, 88352\, United States
CATEGORIES:All Events,Cups & Award Shows
ATTACH;FMTTYPE=image/png:https://cannabiscupwinners.com/wp-content/uploads/2024/03/New-Mexico-Growers-Cup-logo.png
END:VEVENT
END:VCALENDAR